BEGIN:VCALENDAR
VERSION:2.0
PRODID:-//85.13.133.233//NONSGML kigkonsult.se iCalcreator 2.20//
CALSCALE:GREGORIAN
METHOD:PUBLISH
X-WR-TIMEZONE:America/Vancouver
BEGIN:VEVENT
UID:event124@Valley BMW Riders
DTSTAMP:20260422T143623Z
CATEGORIES:Campouts
DESCRIPTION:Kaslo Camp-N-Ride\nCategory: Campouts\nLink: https://valleybmwr
 iders.com/index.php?option=com_jem&view=event&id=124:kaslo-camp-n-ride\n
DTSTART;VALUE=DATE:20260807
DTEND;VALUE=DATE:20260811
LOCATION:Kaslo Municipal Campground\,Foot of A Ave\,V0G 1M0 Kaslo
SUMMARY:Kaslo Camp-N-Ride
URL:https://valleybmwriders.com/index.php?option=com_jem&view=event&id=124:
 kaslo-camp-n-ride
END:VEVENT
END:VCALENDAR